BEGIN:VCALENDAR
VERSION:2.0
PRODID:SchoolNow
CALSCALE:GREGORIAN
BEGIN:VEVENT
UID:36ade702-81e1-11f0-96cb-0affee066179
DTSTAMP:20250825T182753Z
SUMMARY:CDD Board Workshop - Sept. 2026
LOCATION:West Meadows Community Center 8401 New Tampa Blvd Tampa\, FL 33647
URL;VALUE=URI:https://www.tpostcdd.com/calendar/8542369/cdd-board-workshop-
 sept-2026
DTSTART:20260901T211500Z
DTEND:20260901T221500Z
END:VEVENT
END:VCALENDAR
