BEGIN:VCALENDAR
VERSION:2.0
PRODID:SchoolNow
CALSCALE:GREGORIAN
BEGIN:VEVENT
UID:2c36ef3a-81e1-11f0-b8ee-0e5d3462789d
DTSTAMP:20250825T182735Z
SUMMARY:CDD Board Workshop - Aug. 2026
LOCATION:West Meadows Community Center 8401 New Tampa Blvd Tampa\, FL 33647
URL;VALUE=URI:https://www.tpostcdd.com/calendar/8542368/cdd-board-workshop-
 aug-2026
DTSTART:20260804T211500Z
DTEND:20260804T221500Z
END:VEVENT
END:VCALENDAR
