BEGIN:VCALENDAR
VERSION:2.0
PRODID:SchoolNow
CALSCALE:GREGORIAN
BEGIN:VEVENT
UID:21cc562a-81e1-11f0-85a5-0afff983aa55
DTSTAMP:20250825T182718Z
SUMMARY:CDD Board Workshop - Jul. 2026
LOCATION:West Meadows Community Center 8401 New Tampa Blvd Tampa\, FL 33647
URL;VALUE=URI:https://www.tpostcdd.com/calendar/8542367/cdd-board-workshop-
 jul-2026
DTSTART:20260707T211500Z
DTEND:20260707T221500Z
END:VEVENT
END:VCALENDAR
