BEGIN:VCALENDAR
VERSION:2.0
PRODID:SchoolNow
CALSCALE:GREGORIAN
BEGIN:VEVENT
UID:18f8a0a8-81e1-11f0-866b-0a58a9feac02
DTSTAMP:20250825T182703Z
SUMMARY:CDD Board Workshop - Jun. 2026
LOCATION:West Meadows Community Center 8401 New Tampa Blvd Tampa\, FL 33647
URL;VALUE=URI:https://www.tpostcdd.com/calendar/8542366/cdd-board-workshop-
 jun-2026
DTSTART:20260602T211500Z
DTEND:20260602T221500Z
END:VEVENT
END:VCALENDAR
