BEGIN:VCALENDAR
VERSION:2.0
PRODID:SchoolNow
CALSCALE:GREGORIAN
BEGIN:VEVENT
UID:0fdf2582-81e1-11f0-9880-0a58a9feac02
DTSTAMP:20250825T182648Z
SUMMARY:CDD Board Workshop - May 2026
LOCATION:West Meadows Community Center 8401 New Tampa Blvd Tampa\, FL 33647
URL;VALUE=URI:https://www.tpostcdd.com/calendar/8542365/cdd-board-workshop-
 may-2026
DTSTART:20260505T211500Z
DTEND:20260505T221500Z
END:VEVENT
END:VCALENDAR
