BEGIN:VCALENDAR
VERSION:2.0
PRODID:SchoolNow
CALSCALE:GREGORIAN
BEGIN:VEVENT
UID:05be34ee-81e1-11f0-91da-02b6ac64bda5
DTSTAMP:20260331T152812Z
SUMMARY:CDD Board Workshop - Apr 2026
LOCATION:West Meadows Community Center 8401 New Tampa Blvd Tampa\, FL 33647
URL;VALUE=URI:https://www.tpostcdd.com/calendar/8542364/cdd-board-workshop-
 apr-2026
DTSTART:20260407T211500Z
DTEND:20260407T221500Z
ATTACH;FILENAME=2026-04-07 TPOST Revised Workshop Agenda.pdf;FMTTYPE=applic
 ation/pdf:https://campussuite-storage.s3.amazonaws.com/prod/1558950/38816f
 6c-f057-11e9-a22b-12606da399aa/3085407/36032d7c-2d16-11f1-becc-0a58a9feac0
 2/file/2026-04-07 TPOST Revised Workshop Agenda.pdf
END:VEVENT
END:VCALENDAR
