BEGIN:VCALENDAR
VERSION:2.0
PRODID:SchoolNow
CALSCALE:GREGORIAN
BEGIN:VEVENT
UID:f4a91d72-81e0-11f0-9563-0a58a9feac02
DTSTAMP:20260224T150938Z
SUMMARY:CDD Board Workshop - Mar. 2026
LOCATION:West Meadows Community Center 8401 New Tampa Blvd Tampa\, FL 33647
URL;VALUE=URI:https://www.tpostcdd.com/calendar/8542363/cdd-board-workshop-
 mar-2026
DTSTART:20260303T221500Z
DTEND:20260303T231500Z
ATTACH;FILENAME=2026-03-03 TPOST Workshop Agenda.pdf;FMTTYPE=application/pd
 f:https://campussuite-storage.s3.amazonaws.com/prod/1558950/38816f6c-f057-
 11e9-a22b-12606da399aa/3073652/d33be402-1192-11f1-89aa-0221fbe23d43/file/2
 026-03-03 TPOST Workshop Agenda.pdf
END:VEVENT
END:VCALENDAR
