BEGIN:VCALENDAR
VERSION:2.0
PRODID:SchoolNow
CALSCALE:GREGORIAN
BEGIN:VEVENT
UID:eb93f5cc-81e0-11f0-9173-0a58a9feac02
DTSTAMP:20260126T203811Z
SUMMARY:CDD Board Workshop - Feb. 2026
LOCATION:West Meadows Community Center 8401 New Tampa Blvd Tampa\, FL 33647
URL;VALUE=URI:https://www.tpostcdd.com/calendar/8542362/cdd-board-workshop-
 feb-2026
DTSTART:20260203T221500Z
DTEND:20260203T231500Z
ATTACH;FILENAME=2026-02-03 TPOST Workshop Agenda.pdf;FMTTYPE=application/pd
 f:https://campussuite-storage.s3.amazonaws.com/prod/1558950/38816f6c-f057-
 11e9-a22b-12606da399aa/3064139/ea3fd86e-faf6-11f0-b63f-0e637a4a0ca3/file/2
 026-02-03 TPOST Workshop Agenda.pdf
END:VEVENT
END:VCALENDAR
