BEGIN:VCALENDAR
VERSION:2.0
PRODID:SchoolNow
CALSCALE:GREGORIAN
BEGIN:VEVENT
UID:e2339dca-81e0-11f0-aab0-0affe844e53d
DTSTAMP:20251230T183944Z
SUMMARY:CDD Board Workshop - Jan. 2026
LOCATION:West Meadows Community Center 8401 New Tampa Blvd Tampa\, FL 33647
URL;VALUE=URI:https://www.tpostcdd.com/calendar/8542361/cdd-board-workshop-
 jan-2026
DTSTART:20260106T221500Z
DTEND:20260106T231500Z
ATTACH;FILENAME=2026-01-06 TPOST Workshop Agenda.pdf;FMTTYPE=application/pd
 f:https://campussuite-storage.s3.amazonaws.com/prod/1558950/38816f6c-f057-
 11e9-a22b-12606da399aa/3055963/e5bac540-e5ae-11f0-bbc7-022c9a8d7b73/file/2
 026-01-06 TPOST Workshop Agenda.pdf
END:VEVENT
END:VCALENDAR
