BEGIN:VCALENDAR
VERSION:2.0
PRODID:SchoolNow
CALSCALE:GREGORIAN
BEGIN:VEVENT
UID:d7ef9d96-81e0-11f0-9fb2-0a58a9feac02
DTSTAMP:20251201T151802Z
SUMMARY:CDD Board Workshop - Dec. 2025
LOCATION:West Meadows Community Center 8401 New Tampa Blvd Tampa\, FL 33647
URL;VALUE=URI:https://www.tpostcdd.com/calendar/8542360/cdd-board-workshop-
 dec-2025
DTSTART:20251202T221500Z
DTEND:20251202T231500Z
ATTACH;FILENAME=2025-12-02 TPOST Workshop Agenda.pdf;FMTTYPE=application/pd
 f:https://campussuite-storage.s3.amazonaws.com/prod/1558950/38816f6c-f057-
 11e9-a22b-12606da399aa/3044811/dec7971a-cec8-11f0-bf7e-0a58a9feac02/file/2
 025-12-02 TPOST Workshop Agenda.pdf
END:VEVENT
END:VCALENDAR
