BEGIN:VCALENDAR
VERSION:2.0
PRODID:SchoolNow
CALSCALE:GREGORIAN
BEGIN:VEVENT
UID:cde7a80c-81e0-11f0-bed5-0a58a9feac02
DTSTAMP:20251029T181640Z
SUMMARY:CDD Board Workshop - Nov. 2025
LOCATION:West Meadows Community Center 8401 New Tampa Blvd Tampa\, FL 33647
URL;VALUE=URI:https://www.tpostcdd.com/calendar/8542359/cdd-board-workshop-
 nov-2025
DTSTART:20251104T221500Z
DTEND:20251104T231500Z
ATTACH;FILENAME=2025-11-04 TPOST Workshop Agenda (1).pdf;FMTTYPE=applicatio
 n/pdf:https://campussuite-storage.s3.amazonaws.com/prod/1558950/38816f6c-f
 057-11e9-a22b-12606da399aa/3028390/0ecb6bca-b4f3-11f0-acb6-0a58a9feac02/fi
 le/2025-11-04 TPOST Workshop Agenda (1).pdf
END:VEVENT
END:VCALENDAR
