BEGIN:VCALENDAR
VERSION:2.0
PRODID:SchoolNow
CALSCALE:GREGORIAN
BEGIN:VEVENT
UID:c02da1ee-81e0-11f0-abd8-0e8b14fcf377
DTSTAMP:20251001T204633Z
SUMMARY:CDD Board Workshop - Oct. 2025
LOCATION:West Meadows Community Center 8401 New Tampa Blvd Tampa\, FL 33647
URL;VALUE=URI:https://www.tpostcdd.com/calendar/8542358/cdd-board-workshop-
 oct-2025
DTSTART:20251007T211500Z
DTEND:20251007T221500Z
ATTACH;FILENAME=2025-10-07 TPOST Workshop Agenda .pdf;FMTTYPE=application/p
 df:https://campussuite-storage.s3.amazonaws.com/prod/1558950/38816f6c-f057
 -11e9-a22b-12606da399aa/3015776/b4ae2cfa-9f07-11f0-baec-0e84c27ea6fb/file/
 2025-10-07 TPOST Workshop Agenda .pdf
END:VEVENT
END:VCALENDAR
