BEGIN:VCALENDAR
VERSION:2.0
PRODID:SchoolNow
CALSCALE:GREGORIAN
BEGIN:VEVENT
UID:b3740312-81e0-11f0-8ad0-02efef4a7877
DTSTAMP:20250825T182413Z
SUMMARY:CDD Board Meeting - Sept.  2026
LOCATION:West Meadows Community Center 8401 New Tampa Blvd Tampa\, FL 33647
URL;VALUE=URI:https://www.tpostcdd.com/calendar/8542357/cdd-board-meeting-s
 ept-2026
DTSTART:20260915T211500Z
DTEND:20260915T221500Z
END:VEVENT
END:VCALENDAR
