BEGIN:VCALENDAR
VERSION:2.0
PRODID:SchoolNow
CALSCALE:GREGORIAN
BEGIN:VEVENT
UID:a968993c-81e0-11f0-a6a0-0a58a9feac02
DTSTAMP:20250825T182356Z
SUMMARY:CDD Board Meeting - Aug.  2026
LOCATION:West Meadows Community Center 8401 New Tampa Blvd Tampa\, FL 33647
URL;VALUE=URI:https://www.tpostcdd.com/calendar/8542356/cdd-board-meeting-a
 ug-2026
DTSTART:20260818T211500Z
DTEND:20260818T221500Z
END:VEVENT
END:VCALENDAR
