BEGIN:VCALENDAR
VERSION:2.0
PRODID:SchoolNow
CALSCALE:GREGORIAN
BEGIN:VEVENT
UID:a019ff06-81e0-11f0-872c-022e31aca1f7
DTSTAMP:20250825T182340Z
SUMMARY:CDD Board Meeting - Jul.  2026
LOCATION:West Meadows Community Center 8401 New Tampa Blvd Tampa\, FL 33647
URL;VALUE=URI:https://www.tpostcdd.com/calendar/8542355/cdd-board-meeting-j
 ul-2026
DTSTART:20260721T211500Z
DTEND:20260721T221500Z
END:VEVENT
END:VCALENDAR
