BEGIN:VCALENDAR
VERSION:2.0
PRODID:SchoolNow
CALSCALE:GREGORIAN
BEGIN:VEVENT
UID:8c74b040-81e0-11f0-924c-0a58a9feac02
DTSTAMP:20250825T182307Z
SUMMARY:CDD Board Meeting - Jun.  2026
LOCATION:West Meadows Community Center 8401 New Tampa Blvd Tampa\, FL 33647
URL;VALUE=URI:https://www.tpostcdd.com/calendar/8542354/cdd-board-meeting-j
 un-2026
DTSTART:20260616T211500Z
DTEND:20260616T221500Z
END:VEVENT
END:VCALENDAR
