BEGIN:VCALENDAR
VERSION:2.0
PRODID:SchoolNow
CALSCALE:GREGORIAN
BEGIN:VEVENT
UID:631db962-81e0-11f0-82d4-0e5d3462789d
DTSTAMP:20250825T182158Z
SUMMARY:CDD Board Meeting - May 2026
LOCATION:West Meadows Community Center 8401 New Tampa Blvd Tampa\, FL 33647
URL;VALUE=URI:https://www.tpostcdd.com/calendar/8542353/cdd-board-meeting-m
 ay-2026
DTSTART:20260519T211500Z
DTEND:20260519T221500Z
END:VEVENT
END:VCALENDAR
