BEGIN:VCALENDAR
VERSION:2.0
PRODID:SchoolNow
CALSCALE:GREGORIAN
BEGIN:VEVENT
UID:5748fd68-81e0-11f0-8af6-0affee066179
DTSTAMP:20260414T195055Z
SUMMARY:CDD Board Meeting - Apr. 2026
LOCATION:West Meadows Community Center 8401 New Tampa Blvd Tampa\, FL 33647
URL;VALUE=URI:https://www.tpostcdd.com/calendar/8542352/cdd-board-meeting-a
 pr-2026
DTSTART:20260421T211500Z
DTEND:20260421T221500Z
ATTACH;FILENAME=2026-04-21 TPOST Meeting Agenda Package.pdf;FMTTYPE=applica
 tion/pdf:https://campussuite-storage.s3.amazonaws.com/prod/1558950/38816f6
 c-f057-11e9-a22b-12606da399aa/3089455/ac3e3886-383a-11f1-a4a0-0afff8a3431d
 /file/2026-04-21 TPOST Meeting Agenda Package.pdf
END:VEVENT
END:VCALENDAR
