BEGIN:VCALENDAR
VERSION:2.0
PRODID:SchoolNow
CALSCALE:GREGORIAN
BEGIN:VEVENT
UID:4ee4d3cc-81e0-11f0-9f0c-02eb822844bf
DTSTAMP:20260310T130144Z
SUMMARY:Budget Workshop - Mar. 2026
LOCATION:West Meadows Community Center 8401 New Tampa Blvd Tampa\, FL 33647
URL;VALUE=URI:https://www.tpostcdd.com/calendar/8542351/cdd-board-meeting-m
 ar-2026
DTSTART:20260317T211500Z
DTEND:20260317T221500Z
ATTACH;FILENAME=2026-03-17 TPOST Meeting Agenda Package.pdf;FMTTYPE=applica
 tion/pdf:https://campussuite-storage.s3.amazonaws.com/prod/1558950/38816f6
 c-f057-11e9-a22b-12606da399aa/3078169/46759dac-1c81-11f1-bba9-0a58a9feac02
 /file/2026-03-17 TPOST Meeting Agenda Package.pdf
END:VEVENT
END:VCALENDAR
