BEGIN:VCALENDAR
VERSION:2.0
PRODID:SchoolNow
CALSCALE:GREGORIAN
BEGIN:VEVENT
UID:46fc0194-81e0-11f0-a9b5-02eb822844bf
DTSTAMP:20260210T160949Z
SUMMARY:CDD Board Meeting - Feb. 2026
LOCATION:West Meadows Community Center 8401 New Tampa Blvd Tampa\, FL 33647
URL;VALUE=URI:https://www.tpostcdd.com/calendar/8542350/cdd-board-meeting-f
 eb-2026
DTSTART:20260217T221500Z
DTEND:20260217T231500Z
ATTACH;FILENAME=2026-02-17 TPOST Meeting Agenda Package.pdf;FMTTYPE=applica
 tion/pdf:https://campussuite-storage.s3.amazonaws.com/prod/1558950/38816f6
 c-f057-11e9-a22b-12606da399aa/3069291/e784ffa0-069a-11f1-987a-0affd46903e3
 /file/2026-02-17 TPOST Meeting Agenda Package.pdf
END:VEVENT
END:VCALENDAR
