BEGIN:VCALENDAR
VERSION:2.0
PRODID:SchoolNow
CALSCALE:GREGORIAN
BEGIN:VEVENT
UID:3f4e100e-81e0-11f0-8407-0a58a9feac02
DTSTAMP:20260113T201056Z
SUMMARY:CDD Board Meeting - Jan. 2026
LOCATION:West Meadows Community Center 8401 New Tampa Blvd Tampa\, FL 33647
URL;VALUE=URI:https://www.tpostcdd.com/calendar/8542349/cdd-board-meeting-j
 an-2026
DTSTART:20260120T221500Z
DTEND:20260120T231500Z
ATTACH;FILENAME=2026-01-20 TPOST Meeting Agenda Package-.pdf;FMTTYPE=applic
 ation/pdf:https://campussuite-storage.s3.amazonaws.com/prod/1558950/38816f
 6c-f057-11e9-a22b-12606da399aa/3059826/f4877920-f0bb-11f0-b284-027d69456fd
 9/file/2026-01-20 TPOST Meeting Agenda Package-.pdf
END:VEVENT
END:VCALENDAR
