BEGIN:VCALENDAR
VERSION:2.0
PRODID:SchoolNow
CALSCALE:GREGORIAN
BEGIN:VEVENT
UID:2d6b68dc-81e0-11f0-a1bd-0e8b14fcf377
DTSTAMP:20251210T124012Z
SUMMARY:CDD Board Meeting - Dec. 2025
LOCATION:West Meadows Community Center 8401 New Tampa Blvd Tampa\, FL 33647
URL;VALUE=URI:https://www.tpostcdd.com/calendar/8542348/cdd-board-meeting-d
 ec-2025
DTSTART:20251216T221500Z
DTEND:20251216T231500Z
ATTACH;FILENAME=2025-12-16 TPOST Agenda Package.pdf;FMTTYPE=application/pdf
 :https://campussuite-storage.s3.amazonaws.com/prod/1558950/38816f6c-f057-1
 1e9-a22b-12606da399aa/3049742/50d65ffa-d5c5-11f0-8975-0e8b00643d1b/file/20
 25-12-16 TPOST Agenda Package.pdf
END:VEVENT
END:VCALENDAR
