BEGIN:VCALENDAR
VERSION:2.0
PRODID:SchoolNow
CALSCALE:GREGORIAN
BEGIN:VEVENT
UID:2522b586-81e0-11f0-a758-022e31aca1f7
DTSTAMP:20251201T185615Z
SUMMARY:CDD Board Meeting - Nov. 2025
LOCATION:West Meadows Community Center 8401 New Tampa Blvd Tampa\, FL 33647
URL;VALUE=URI:https://www.tpostcdd.com/calendar/8542347/cdd-board-meeting-n
 ov-2025
DTSTART:20251118T221500Z
DTEND:20251118T231500Z
ATTACH;FILENAME=2025-11-18 TPOST Meeting Agenda Package.pdf;FMTTYPE=applica
 tion/pdf:https://campussuite-storage.s3.amazonaws.com/prod/1558950/38816f6
 c-f057-11e9-a22b-12606da399aa/3044979/64f9aa26-cee7-11f0-a8d0-02ea71babd91
 /file/2025-11-18 TPOST Meeting Agenda Package.pdf
END:VEVENT
END:VCALENDAR
