BEGIN:VCALENDAR
VERSION:2.0
PRODID:SchoolNow
CALSCALE:GREGORIAN
BEGIN:VEVENT
UID:1c75b942-81e0-11f0-9d67-0a58a9feac02
DTSTAMP:20251020T160508Z
SUMMARY:CDD Board Meeting - Oct. 2025
LOCATION:West Meadows Community Center 8401 New Tampa Blvd Tampa\, FL 33647
URL;VALUE=URI:https://www.tpostcdd.com/calendar/8542346/cdd-board-meeting-s
 ept-2025-clone
DTSTART:20251021T211500Z
DTEND:20251021T221500Z
ATTACH;FILENAME=2025-10-21 Meeting Agenda Package.pdf;FMTTYPE=application/p
 df:https://campussuite-storage.s3.amazonaws.com/prod/1558950/38816f6c-f057
 -11e9-a22b-12606da399aa/3023256/89848ae4-adce-11f0-89ea-0a58a9feac02/file/
 2025-10-21 Meeting Agenda Package.pdf
END:VEVENT
END:VCALENDAR
