BEGIN:VCALENDAR
VERSION:2.0
PRODID:SchoolNow
CALSCALE:GREGORIAN
BEGIN:VEVENT
UID:71fe2180-752d-11ef-8ee2-0affc14b4c77
DTSTAMP:20250827T124856Z
SUMMARY:CDD Board Workshop - Sept. 2025
LOCATION:West Meadows Community Center 8401 New Tampa Blvd Tampa\, FL 33647
URL;VALUE=URI:https://www.tpostcdd.com/calendar/6628211/cdd-board-workshop-
 sept-2025
DTSTART:20250902T211500Z
DTEND:20250902T221500Z
ATTACH;FILENAME=2025-09-02 Workshop Agenda.pdf;FMTTYPE=application/pdf:http
 s://campussuite-storage.s3.amazonaws.com/prod/1558950/38816f6c-f057-11e9-a
 22b-12606da399aa/2999534/2e5fd114-8344-11f0-ab72-0a58a9feac02/file/2025-09
 -02 Workshop Agenda.pdf
END:VEVENT
END:VCALENDAR
