BEGIN:VCALENDAR
VERSION:2.0
PRODID:SchoolNow
CALSCALE:GREGORIAN
BEGIN:VEVENT
UID:d4b35e9a-752c-11ef-9d88-0a58a9feac02
DTSTAMP:20250910T095525Z
SUMMARY:CDD Board Meeting - Sept. 2025
LOCATION:West Meadows Community Center 8401 New Tampa Blvd Tampa\, FL 33647
URL;VALUE=URI:https://www.tpostcdd.com/calendar/6628192/cdd-board-meeting-s
 ept-2025
DTSTART:20250916T211500Z
DTEND:20250916T221500Z
ATTACH;FILENAME=2025-09-16 TPOST Agenda Package.pdf;FMTTYPE=application/pdf
 :https://campussuite-storage.s3.amazonaws.com/prod/1558950/38816f6c-f057-1
 1e9-a22b-12606da399aa/3005402/425c04e2-8e2c-11f0-9a96-0eac18ed6063/file/20
 25-09-16 TPOST Agenda Package.pdf
END:VEVENT
END:VCALENDAR
